BEGIN:VCALENDAR
VERSION:2.0
PRODID:-//Debbie Taylor Williams - Hill Country Ministries - ECPv6.15.20//NONSGML v1.0//EN
CALSCALE:GREGORIAN
METHOD:PUBLISH
X-WR-CALNAME:Debbie Taylor Williams - Hill Country Ministries
X-ORIGINAL-URL:https://debbietaylorwilliams.com
X-WR-CALDESC:Events for Debbie Taylor Williams - Hill Country Ministries
REFRESH-INTERVAL;VALUE=DURATION:PT1H
X-Robots-Tag:noindex
X-PUBLISHED-TTL:PT1H
BEGIN:VTIMEZONE
TZID:America/Chicago
BEGIN:DAYLIGHT
TZOFFSETFROM:-0600
TZOFFSETTO:-0500
TZNAME:CDT
DTSTART:20230312T080000
END:DAYLIGHT
BEGIN:STANDARD
TZOFFSETFROM:-0500
TZOFFSETTO:-0600
TZNAME:CST
DTSTART:20231105T070000
END:STANDARD
BEGIN:DAYLIGHT
TZOFFSETFROM:-0600
TZOFFSETTO:-0500
TZNAME:CDT
DTSTART:20240310T080000
END:DAYLIGHT
BEGIN:STANDARD
TZOFFSETFROM:-0500
TZOFFSETTO:-0600
TZNAME:CST
DTSTART:20241103T070000
END:STANDARD
BEGIN:DAYLIGHT
TZOFFSETFROM:-0600
TZOFFSETTO:-0500
TZNAME:CDT
DTSTART:20250309T080000
END:DAYLIGHT
BEGIN:STANDARD
TZOFFSETFROM:-0500
TZOFFSETTO:-0600
TZNAME:CST
DTSTART:20251102T070000
END:STANDARD
END:VTIMEZONE
BEGIN:VEVENT
DTSTART;TZID=America/Chicago:20240110T100000
DTEND;TZID=America/Chicago:20240327T120000
DTSTAMP:20260421T075138
CREATED:20240110T142713Z
LAST-MODIFIED:20240110T143727Z
UID:28815-1704880800-1711540800@debbietaylorwilliams.com
SUMMARY:John\, Part 2 Weekly Bible Study
DESCRIPTION:Share
URL:https://debbietaylorwilliams.com/event/john-part-2-weekly-bible-study-2/
LOCATION:Trinity Baptist Church\, Kerville\, TX\, 800 Jackson Rd\, Kerrville\, TX\, 78028\, United States
CATEGORIES:Bible Study
END:VEVENT
BEGIN:VEVENT
DTSTART;TZID=America/Chicago:20240111T183000
DTEND;TZID=America/Chicago:20240328T200000
DTSTAMP:20260421T075138
CREATED:20240110T142045Z
LAST-MODIFIED:20240110T143449Z
UID:28813-1704997800-1711656000@debbietaylorwilliams.com
SUMMARY:John\, Part 2 Weekly Bible Study
DESCRIPTION:Share
URL:https://debbietaylorwilliams.com/event/john-part-2-weekly-bible-study/
LOCATION:Trinity Baptist Church\, Kerville\, TX\, 800 Jackson Rd\, Kerrville\, TX\, 78028\, United States
CATEGORIES:Bible Study
END:VEVENT
END:VCALENDAR