BEGIN:VCALENDAR
VERSION:2.0
PRODID:-//Debbie Taylor Williams - Hill Country Ministries - ECPv6.15.20//NONSGML v1.0//EN
CALSCALE:GREGORIAN
METHOD:PUBLISH
X-ORIGINAL-URL:https://debbietaylorwilliams.com
X-WR-CALDESC:Events for Debbie Taylor Williams - Hill Country Ministries
REFRESH-INTERVAL;VALUE=DURATION:PT1H
X-Robots-Tag:noindex
X-PUBLISHED-TTL:PT1H
BEGIN:VTIMEZONE
TZID:America/Chicago
BEGIN:DAYLIGHT
TZOFFSETFROM:-0600
TZOFFSETTO:-0500
TZNAME:CDT
DTSTART:20240310T080000
END:DAYLIGHT
BEGIN:STANDARD
TZOFFSETFROM:-0500
TZOFFSETTO:-0600
TZNAME:CST
DTSTART:20241103T070000
END:STANDARD
BEGIN:DAYLIGHT
TZOFFSETFROM:-0600
TZOFFSETTO:-0500
TZNAME:CDT
DTSTART:20250309T080000
END:DAYLIGHT
BEGIN:STANDARD
TZOFFSETFROM:-0500
TZOFFSETTO:-0600
TZNAME:CST
DTSTART:20251102T070000
END:STANDARD
BEGIN:DAYLIGHT
TZOFFSETFROM:-0600
TZOFFSETTO:-0500
TZNAME:CDT
DTSTART:20260308T080000
END:DAYLIGHT
BEGIN:STANDARD
TZOFFSETFROM:-0500
TZOFFSETTO:-0600
TZNAME:CST
DTSTART:20261101T070000
END:STANDARD
END:VTIMEZONE
BEGIN:VEVENT
DTSTART;VALUE=DATE:20250221
DTEND;VALUE=DATE:20250223
DTSTAMP:20260420T091706
CREATED:20240417T163941Z
LAST-MODIFIED:20240830T170712Z
UID:29773-1740096000-1740268799@debbietaylorwilliams.com
SUMMARY:Soul Shine at Arms of Hope Chapel in Medina
DESCRIPTION:  \n  \n  \nShare
URL:https://debbietaylorwilliams.com/event/soul-shine-at-arms-of-hope-chapel-in-medina/
LOCATION:Arms of Hope Chapel in Medina\, 21300 State Highway 16 North\, Medina\, TX\, 78055\, United States
CATEGORIES:Conference
ORGANIZER;CN="Kerrville Church of Christ":MAILTO:jkellibeauty@gmail.com
END:VEVENT
END:VCALENDAR