BEGIN:VCALENDAR
VERSION:2.0
PRODID:-//Debbie Taylor Williams - Hill Country Ministries - ECPv6.15.20//NONSGML v1.0//EN
CALSCALE:GREGORIAN
METHOD:PUBLISH
X-WR-CALNAME:Debbie Taylor Williams - Hill Country Ministries
X-ORIGINAL-URL:https://debbietaylorwilliams.com
X-WR-CALDESC:Events for Debbie Taylor Williams - Hill Country Ministries
REFRESH-INTERVAL;VALUE=DURATION:PT1H
X-Robots-Tag:noindex
X-PUBLISHED-TTL:PT1H
BEGIN:VTIMEZONE
TZID:America/Chicago
BEGIN:DAYLIGHT
TZOFFSETFROM:-0600
TZOFFSETTO:-0500
TZNAME:CDT
DTSTART:20240310T080000
END:DAYLIGHT
BEGIN:STANDARD
TZOFFSETFROM:-0500
TZOFFSETTO:-0600
TZNAME:CST
DTSTART:20241103T070000
END:STANDARD
BEGIN:DAYLIGHT
TZOFFSETFROM:-0600
TZOFFSETTO:-0500
TZNAME:CDT
DTSTART:20250309T080000
END:DAYLIGHT
BEGIN:STANDARD
TZOFFSETFROM:-0500
TZOFFSETTO:-0600
TZNAME:CST
DTSTART:20251102T070000
END:STANDARD
BEGIN:DAYLIGHT
TZOFFSETFROM:-0600
TZOFFSETTO:-0500
TZNAME:CDT
DTSTART:20260308T080000
END:DAYLIGHT
BEGIN:STANDARD
TZOFFSETFROM:-0500
TZOFFSETTO:-0600
TZNAME:CST
DTSTART:20261101T070000
END:STANDARD
BEGIN:DAYLIGHT
TZOFFSETFROM:-0600
TZOFFSETTO:-0500
TZNAME:CDT
DTSTART:20270314T080000
END:DAYLIGHT
BEGIN:STANDARD
TZOFFSETFROM:-0500
TZOFFSETTO:-0600
TZNAME:CST
DTSTART:20271107T070000
END:STANDARD
END:VTIMEZONE
BEGIN:VEVENT
DTSTART;TZID=America/Chicago:20251106T110000
DTEND;TZID=America/Chicago:20251106T130000
DTSTAMP:20260421T191835
CREATED:20250320T144415Z
LAST-MODIFIED:20250924T174909Z
UID:33314-1762426800-1762434000@debbietaylorwilliams.com
SUMMARY:The Church at Horseshoe Bay Luncheon
DESCRIPTION:Topic: Discerning the Voice of God \nDay and Time \nThursday\, November 6\, 2025 \n11:00 a.m. – 1:00 p.m. \nLocation \nThe Church at Horseshoe Bay \n600 Hi Ridge\, Horseshoe Bay\, TX 78657 \nAdditional Information \nOpen to all women in the area.Cost: $15 per participant Online registration will be available at church-hsb.org. \n  \n \n  \n  \n  \nShare
URL:https://debbietaylorwilliams.com/event/the-church-at-horseshoe-bay/
LOCATION:The Church at Horseshoe Bay\, 600 Hi Ridge\, Horseshoe Bay\, 78657\, United States
CATEGORIES:Conference
ORGANIZER;CN="The Church at Horseshoe Bay":MAILTO:patriciarwhite@hotmail.com
END:VEVENT
BEGIN:VEVENT
DTSTART;VALUE=DATE:20261114
DTEND;VALUE=DATE:20261115
DTSTAMP:20260421T191835
CREATED:20250825T163825Z
LAST-MODIFIED:20250825T163825Z
UID:34412-1794614400-1794700799@debbietaylorwilliams.com
SUMMARY:Hawthorne Gospel Church Women’s Retreat
DESCRIPTION:Topic: Prayer \nDay and Time \nSaturday\, November 14\, 2026 \nTime: TBD \nLocation \nHawthorne Gospel Church2000 State Route 208Hawthorne\, NJ 07506 \nAdditional Information \nSpeaker: Debbie Taylor Williams \nOpen to all women in the area \n  \n  \n  \n  \n  \n  \nShare
URL:https://debbietaylorwilliams.com/event/hawthorne-gospel-church-womens-retreat/
LOCATION:Hawthorne Gospel Church\, 2000 State Rt 208\, Hawthorne\, NJ\, 07506\, United States
CATEGORIES:Conference
END:VEVENT
END:VCALENDAR