BEGIN:VCALENDAR
VERSION:2.0
PRODID:-//Debbie Taylor Williams - Hill Country Ministries - ECPv6.15.20//NONSGML v1.0//EN
CALSCALE:GREGORIAN
METHOD:PUBLISH
X-WR-CALNAME:Debbie Taylor Williams - Hill Country Ministries
X-ORIGINAL-URL:https://debbietaylorwilliams.com
X-WR-CALDESC:Events for Debbie Taylor Williams - Hill Country Ministries
REFRESH-INTERVAL;VALUE=DURATION:PT1H
X-Robots-Tag:noindex
X-PUBLISHED-TTL:PT1H
BEGIN:VTIMEZONE
TZID:America/Chicago
BEGIN:DAYLIGHT
TZOFFSETFROM:-0600
TZOFFSETTO:-0500
TZNAME:CDT
DTSTART:20230312T080000
END:DAYLIGHT
BEGIN:STANDARD
TZOFFSETFROM:-0500
TZOFFSETTO:-0600
TZNAME:CST
DTSTART:20231105T070000
END:STANDARD
BEGIN:DAYLIGHT
TZOFFSETFROM:-0600
TZOFFSETTO:-0500
TZNAME:CDT
DTSTART:20240310T080000
END:DAYLIGHT
BEGIN:STANDARD
TZOFFSETFROM:-0500
TZOFFSETTO:-0600
TZNAME:CST
DTSTART:20241103T070000
END:STANDARD
BEGIN:DAYLIGHT
TZOFFSETFROM:-0600
TZOFFSETTO:-0500
TZNAME:CDT
DTSTART:20250309T080000
END:DAYLIGHT
BEGIN:STANDARD
TZOFFSETFROM:-0500
TZOFFSETTO:-0600
TZNAME:CST
DTSTART:20251102T070000
END:STANDARD
END:VTIMEZONE
BEGIN:VEVENT
DTSTART;TZID=America/Chicago:20240710T100000
DTEND;TZID=America/Chicago:20240725T193000
DTSTAMP:20260420T074358
CREATED:20240401T192551Z
LAST-MODIFIED:20240611T151052Z
UID:29563-1720605600-1721935800@debbietaylorwilliams.com
SUMMARY:Jude Bible Study
DESCRIPTION:About the Study \nWhat is the shortest book in the Bible? If you said Jude\, you’re close\, but actually it is the fifth shortest book with only 25 verses. So why take the time to study the book of Jude? The reason is because it is filled with important words for Christians. \nIn this three-week study you’ll be both encouraged and challenged. \nTopics include: \n\nWarnings about who and what is infiltrating our churches\nAngelic majesties\nThe judgement to come\nThe last days\nWhat is meant by praying in the Holy Spirit\nWhat it means to be devoid of the Spirit\nThe importance of mercy\nHow a believer can keep from stumbling in their walk with God\nHow to stand blameless before the Lord\n\nThrough the study of Jude\, you’ll be awakened to the importance of guarding your faith and being mindful of what you are being taught. In addition\, you’ll be encouraged and equipped to stand for the Christian faith. \nAccompanying videos and podcasts will deepen your understanding of Jude’s words and show you how you can walk out your faith in everyday life. \n  \nDays\, Times\, and Location \nIn-Person Location \nTrinity Baptist Church \n800 Jackson Rd\, Kerrville\, TX \nAlso available online under “Bible Studies” \n  \nWednesdays \nJuly 10 – 24\, 10:00am – noon \nChildcare by Reservation \n  \nThursdays \nJuly 11 – 25\, 6:00 – 7:30pm \nChildcare Voucher Available \n  \nBible Study Book: $8 \n  \nRegister HERE \n  \nShare
URL:https://debbietaylorwilliams.com/event/jude-bible-study/
LOCATION:Trinity Baptist Church\, Kerville\, TX\, 800 Jackson Rd\, Kerrville\, TX\, 78028\, United States
CATEGORIES:Bible Study
END:VEVENT
END:VCALENDAR